BEGIN:VCALENDAR
PRODID:-//AT Content Types//AT Event//EN
VERSION:2.0
METHOD:PUBLISH
BEGIN:VEVENT
DTSTAMP:20260424T081320Z
CREATED:20230504T125715Z
UID:ATEvent-1f4c391ba2144183b582748a4e130429
LAST-MODIFIED:20230508T171159Z
SUMMARY:Leadership in Health and Safety - Workshop
DTSTART:20230517T070000Z
DTEND:20230517T110000Z
DESCRIPTION:Il workshop esperienziale\, rivolto a datori di lavoro e t
 ecnici della sicurezza delle aziende associate
LOCATION:Brescia
CLASS:PUBLIC
END:VEVENT
END:VCALENDAR
