BEGIN:VCALENDAR
PRODID:-//AT Content Types//AT Event//EN
VERSION:1.0
BEGIN:VEVENT
DTSTART:20160720T133000Z
DTEND:20160720T153000Z
DCREATED:20160707T151356Z
UID:ATEvent-cede8fcccb304fafb9fc79f5953856a7
SEQUENCE:0
LAST-MODIFIED:20160707T151412Z
SUMMARY:Le sanzioni commerciali e finanziarie: lo stato dell’arte nei rapporti con l’Iran e la Russia
DESCRIPTION:Consigli pratici per operare con maggior tranquillità
LOCATION:Mantova
PRIORITY:3
TRANSP:0
END:VEVENT
END:VCALENDAR
