BEGIN:VCALENDAR
PRODID:-//AT Content Types//AT Event//EN
VERSION:2.0
METHOD:PUBLISH
BEGIN:VEVENT
DTSTAMP:20260420T063413Z
CREATED:20221028T140352Z
UID:ATEvent-1844aae600c04e24b5c725cf80d556dd
LAST-MODIFIED:20221110T171720Z
SUMMARY:Le recenti novità normative sul contratto di logistica e i risvolti pratici per le imprese
DTSTART:20221121T090000Z
DTEND:20221121T103000Z
LOCATION:Online
CLASS:PUBLIC
END:VEVENT
END:VCALENDAR
