BEGIN:VCALENDAR
PRODID:-//AT Content Types//AT Event//EN
VERSION:2.0
METHOD:PUBLISH
BEGIN:VEVENT
DTSTAMP:20260420T053327Z
CREATED:20221114T115806Z
UID:ATEvent-d5d909744c7a4969806e5ed9572f9aa4
LAST-MODIFIED:20221118T182659Z
SUMMARY:Le quattro Lombardie e il ruolo della politica
DTSTART:20221119T153000Z
DTEND:20221119T164500Z
LOCATION:Bergamo
CLASS:PUBLIC
END:VEVENT
END:VCALENDAR
