BEGIN:VCALENDAR
PRODID:-//AT Content Types//AT Event//EN
VERSION:2.0
METHOD:PUBLISH
BEGIN:VEVENT
DTSTAMP:20260424T200202Z
CREATED:20210323T173632Z
UID:ATEvent-ed7106659c5e485690c7d2db41e81c4a
LAST-MODIFIED:20210323T173649Z
SUMMARY:Le prove per l’origine preferenziale: registrazione REX o status di esportatore autorizzato?
DTSTART:20210325T090000Z
DTEND:20210325T100000Z
LOCATION:On line
CLASS:PUBLIC
END:VEVENT
END:VCALENDAR
