BEGIN:VCALENDAR
PRODID:-//AT Content Types//AT Event//EN
VERSION:1.0
BEGIN:VEVENT
DTSTART:20211215T083000Z
DTEND:20211215T110000Z
DCREATED:20211213T165749Z
UID:ATEvent-e8527ebfaded46678d3d2d4735f587f6
SEQUENCE:0
LAST-MODIFIED:20211213T165755Z
SUMMARY:Le politiche attive nei moderni mercati transizionali del lavoro
LOCATION:On line
PRIORITY:3
TRANSP:0
END:VEVENT
END:VCALENDAR
