BEGIN:VCALENDAR
PRODID:-//AT Content Types//AT Event//EN
VERSION:2.0
METHOD:PUBLISH
BEGIN:VEVENT
DTSTAMP:20260424T152109Z
CREATED:20260415T144509Z
UID:ATEvent-4c6a79f8a0ef4864b5574d667dab4f9f
LAST-MODIFIED:20260415T144540Z
SUMMARY:Le opportunità di finanziamento dell’Unione Europea per progetti innovativi su scala ridotta
DTSTART:20260414T140000Z
DTEND:20260414T153000Z
LOCATION:Zoom webinar
CLASS:PUBLIC
END:VEVENT
END:VCALENDAR
