BEGIN:VCALENDAR
PRODID:-//AT Content Types//AT Event//EN
VERSION:1.0
BEGIN:VEVENT
DTSTART:20171005T070000Z
DTEND:20171005T110000Z
DCREATED:20170925T123631Z
UID:ATEvent-2286f536a6244540b5afc91276e0259b
SEQUENCE:0
LAST-MODIFIED:20170925T123729Z
SUMMARY:Le operazioni commerciali con la Germania e l'Austria
LOCATION:Bergamo
PRIORITY:3
TRANSP:0
END:VEVENT
END:VCALENDAR
