BEGIN:VCALENDAR
PRODID:-//AT Content Types//AT Event//EN
VERSION:1.0
BEGIN:VEVENT
DTSTART:20220301T140000Z
DTEND:20220301T153000Z
DCREATED:20220223T155731Z
UID:ATEvent-0586424285614c76bc80f74c5e11e219
SEQUENCE:0
LAST-MODIFIED:20220223T155802Z
SUMMARY:Le nuove regole sul rating creditizio
LOCATION:On line
PRIORITY:3
TRANSP:0
END:VEVENT
END:VCALENDAR
