BEGIN:VCALENDAR
PRODID:-//AT Content Types//AT Event//EN
VERSION:2.0
METHOD:PUBLISH
BEGIN:VEVENT
DTSTAMP:20260424T054919Z
CREATED:20230516T083928Z
UID:ATEvent-1c5031ef840f48d7b669a68207b64305
LAST-MODIFIED:20230521T231053Z
SUMMARY:Le novità welfare del 2023: innalzamento della soglia dei fringe benefit e rimborso delle utenze domestiche
DTSTART:20230522T080000Z
DTEND:20230522T100000Z
DESCRIPTION:Incontro webinar.
LOCATION:On line
CLASS:PUBLIC
END:VEVENT
END:VCALENDAR
