BEGIN:VCALENDAR
PRODID:-//AT Content Types//AT Event//EN
VERSION:1.0
BEGIN:VEVENT
DTSTART:20180302T150000Z
DTEND:20180302T170000Z
DCREATED:20180222T155242Z
UID:ATEvent-7e4ac7d7ca2e44ac90e730247804cbd9
SEQUENCE:0
LAST-MODIFIED:20180222T155330Z
SUMMARY:Le novita' IVA per gli esportatori in Svizzera
LOCATION:Legnano (MI)
PRIORITY:3
TRANSP:0
END:VEVENT
END:VCALENDAR
