BEGIN:VCALENDAR
PRODID:-//AT Content Types//AT Event//EN
VERSION:2.0
METHOD:PUBLISH
BEGIN:VEVENT
DTSTAMP:20260422T180206Z
CREATED:20240614T154702Z
UID:ATEvent-78252fb80a5f415bab9fab64f4847771
LAST-MODIFIED:20240617T085836Z
SUMMARY:Le mappe del tesoro - Geopolitica delle materie prime: la vera sfida strategica del XXI secolo - Presentazione libro di Paolo Gila e Maurizio Mazziero
DTSTART:20240620T160000Z
DTEND:20240620T173000Z
DESCRIPTION:Terzo appuntamento degli ASSOtalk\, gli incontri aperti al
 la città nella nuova lounge di Assolombarda
LOCATION:Milano
CLASS:PUBLIC
END:VEVENT
END:VCALENDAR
