BEGIN:VCALENDAR
PRODID:-//AT Content Types//AT Event//EN
VERSION:1.0
BEGIN:VEVENT
DTSTART:20230614T080000Z
DTEND:20230614T093000Z
DCREATED:20230605T084203Z
UID:ATEvent-08789309072a4757a58845a82eba8d47
SEQUENCE:0
LAST-MODIFIED:20230606T091442Z
SUMMARY:Le industrie creative e culturali per lo sviluppo locale
DESCRIPTION:Incontro dedicato a far conoscere e promuovere le “Indus
 trie Culturali e Creative”\, organizzato nell'ambito del palinsesto 
 di Pavia Capitale d'impresa 2023.
LOCATION:Vigevano (PV)
PRIORITY:3
TRANSP:0
END:VEVENT
END:VCALENDAR
