BEGIN:VCALENDAR
PRODID:-//AT Content Types//AT Event//EN
VERSION:1.0
BEGIN:VEVENT
DTSTART:20230209T080000Z
DTEND:20230209T163000Z
DCREATED:20230208T092951Z
UID:ATEvent-3ef42e1533074c859452be54d87cd6e0
SEQUENCE:0
LAST-MODIFIED:20230208T092955Z
SUMMARY:Le imprese italiane nello scenario competitivo interno e internazionale
LOCATION:Milano
PRIORITY:3
TRANSP:0
END:VEVENT
END:VCALENDAR
