BEGIN:VCALENDAR
PRODID:-//AT Content Types//AT Event//EN
VERSION:1.0
BEGIN:VEVENT
DTSTART:20220323T100000Z
DTEND:20220323T120000Z
DCREATED:20220321T192757Z
UID:ATEvent-d2658d1dead24261937cbe15d40eeee8
SEQUENCE:0
LAST-MODIFIED:20220321T192854Z
SUMMARY:Le imprese estere in Italia al tempo del Covid: spunti di resilienza
LOCATION:On line
PRIORITY:3
TRANSP:0
END:VEVENT
END:VCALENDAR
