BEGIN:VCALENDAR
PRODID:-//AT Content Types//AT Event//EN
VERSION:2.0
METHOD:PUBLISH
BEGIN:VEVENT
DTSTAMP:20260420T134431Z
CREATED:20170927T143620Z
UID:ATEvent-a6df9724037e444591f8bf205a5e5d87
LAST-MODIFIED:20170927T143757Z
SUMMARY:Le gare d'appalto internazionali
DTSTART:20171003T073000Z
DTEND:20171003T100000Z
DESCRIPTION:Il nuovo servizio di Confindustria Bergamo per le fornitur
 e pubbliche in Italia e all'estero
LOCATION:Bergamo
CLASS:PUBLIC
END:VEVENT
END:VCALENDAR
