BEGIN:VCALENDAR
PRODID:-//AT Content Types//AT Event//EN
VERSION:2.0
METHOD:PUBLISH
BEGIN:VEVENT
DTSTAMP:20260422T221653Z
CREATED:20220911T223418Z
UID:ATEvent-d07b5129d9e94fa7bd85fbee0dcc2195
LAST-MODIFIED:20220911T230901Z
SUMMARY:Le filiere produttive di fronte alla crisi energetica
DTSTART:20220914T150000Z
DTEND:20220914T163000Z
DESCRIPTION:1° tappa del Roadshow #50 Traguardi per la Lombardia
LOCATION:Lecco
CLASS:PUBLIC
END:VEVENT
END:VCALENDAR
