BEGIN:VCALENDAR
PRODID:-//AT Content Types//AT Event//EN
VERSION:1.0
BEGIN:VEVENT
DTSTART:20230525T080000Z
DTEND:20230525T093000Z
DCREATED:20230516T090719Z
UID:ATEvent-ac2f8fd346fc4382b36b4d4b880e4b49
SEQUENCE:0
LAST-MODIFIED:20230521T231409Z
SUMMARY:Le conciliazioni in sede sindacale
DESCRIPTION:Chiudere una controversia in sede sindacale\, come fare: m
 odalità\, efficacia e assistenza a 360° dal primo contatto al deposi
 to del verbale.
LOCATION:On line
PRIORITY:3
TRANSP:0
END:VEVENT
END:VCALENDAR
