BEGIN:VCALENDAR
PRODID:-//AT Content Types//AT Event//EN
VERSION:1.0
BEGIN:VEVENT
DTSTART:20230925T123000Z
DTEND:20230925T143000Z
DCREATED:20230921T145540Z
UID:ATEvent-2ea91851ee7a4619acd04daa01322408
SEQUENCE:0
LAST-MODIFIED:20230922T143717Z
SUMMARY:Le attività di Confindustria Brescia per la Scuola
DESCRIPTION:Panoramica delle attività che Confindustria Brescia ed en
 ti partner indirizzano agli Istituti Scolastici di ogni ordine e grado
  della provincia di Brescia.
LOCATION:Brescia
PRIORITY:3
TRANSP:0
END:VEVENT
END:VCALENDAR
