BEGIN:VCALENDAR
PRODID:-//AT Content Types//AT Event//EN
VERSION:2.0
METHOD:PUBLISH
BEGIN:VEVENT
DTSTAMP:20260421T093117Z
CREATED:20170404T092258Z
UID:ATEvent-09924bdf2410460ea95d2b3393a491a5
LAST-MODIFIED:20170404T093421Z
SUMMARY:Le assunzioni agevolate: cosa resta e cosa cambia dal 2017
DTSTART:20170411T123000Z
DTEND:20170411T150000Z
LOCATION:Como
CLASS:PUBLIC
END:VEVENT
END:VCALENDAR
