BEGIN:VCALENDAR
PRODID:-//AT Content Types//AT Event//EN
VERSION:2.0
METHOD:PUBLISH
BEGIN:VEVENT
DTSTAMP:20260424T143116Z
CREATED:20210323T151936Z
UID:ATEvent-f53b485e65d341d3b07fb3a9d28a3ffc
LAST-MODIFIED:20210325T114457Z
SUMMARY:Lancio della campagna di equity crowdfunding Hevor
DTSTART:20210329T090000Z
DTEND:20210329T110000Z
LOCATION:On line
CLASS:PUBLIC
END:VEVENT
END:VCALENDAR
