BEGIN:VCALENDAR
PRODID:-//AT Content Types//AT Event//EN
VERSION:1.0
BEGIN:VEVENT
DTSTART:20171011T080000Z
DTEND:20171011T110000Z
DCREATED:20170925T135308Z
UID:ATEvent-ed25ac42d9e34c688671e8dd71b6dc87
SEQUENCE:0
LAST-MODIFIED:20171003T122644Z
SUMMARY:L'Analisi di Bilancio
DESCRIPTION:richiamo ai principi fondamentali del bilancio e della ric
 lassificazione e analisi
LOCATION:Milano
PRIORITY:3
TRANSP:0
END:VEVENT
END:VCALENDAR
