BEGIN:VCALENDAR
PRODID:-//AT Content Types//AT Event//EN
VERSION:2.0
METHOD:PUBLISH
BEGIN:VEVENT
DTSTAMP:20260420T061729Z
CREATED:20190329T110005Z
UID:ATEvent-6cc47dc3368d4637acab69af2736ff43
LAST-MODIFIED:20190411T142814Z
SUMMARY:Confindustria: Riforme per l'Europa - Le proposte delle imprese
DTSTART:20190411T123000Z
DTEND:20190411T153000Z
DESCRIPTION:Circoscrizione Nord-Occidentale: Lombardia\, Liguria\, Pie
 monte e Valle d'Aosta
LOCATION:Milano
CLASS:PUBLIC
END:VEVENT
END:VCALENDAR
