BEGIN:VCALENDAR
PRODID:-//AT Content Types//AT Event//EN
VERSION:1.0
BEGIN:VEVENT
DTSTART:20191002T123000Z
DTEND:20191002T150000Z
DCREATED:20190922T225728Z
UID:ATEvent-f025ea815db640668dde814077c41f1c
SEQUENCE:0
LAST-MODIFIED:20190922T225743Z
SUMMARY:La valutazione degli "Intangibles" e la disciplina del Patent Box
DESCRIPTION:ncontro di approfondimento sulla valutazione economica del
 le immobilizzazioni immateriali (marchi\, brevetti\, ecc.) e sull'evol
 uzione normativa del “Patent Box” organizzato in collaborazione co
 n lo Studio Pirola Pennuto Zei & Associati di Milano
LOCATION:Como
PRIORITY:3
TRANSP:0
END:VEVENT
END:VCALENDAR
