BEGIN:VCALENDAR
PRODID:-//AT Content Types//AT Event//EN
VERSION:1.0
BEGIN:VEVENT
DTSTART:20230523T090000Z
DTEND:20230523T110000Z
DCREATED:20230516T084832Z
UID:ATEvent-aaacb502b48b4159b788a726ca1b6944
SEQUENCE:0
LAST-MODIFIED:20230521T230753Z
SUMMARY:La transizione energetica e lo scenario Fit for 55\, quali opportunità per le imprese
DESCRIPTION:L'evento\, all'interno delle iniziative relative a "Pavia 
 Capitale della Cultura d'Impresa"\, illustrerà scenari e prospettive 
 relativi al percorso di transizione energetica con focus sul Pacchetto
  europeo Fit for 55.
LOCATION:Pavia
PRIORITY:3
TRANSP:0
END:VEVENT
END:VCALENDAR
