BEGIN:VCALENDAR
PRODID:-//AT Content Types//AT Event//EN
VERSION:2.0
METHOD:PUBLISH
BEGIN:VEVENT
DTSTAMP:20260424T100144Z
CREATED:20240703T140432Z
UID:ATEvent-cf42bfb8b10f4d98b112e93fc11801e3
LAST-MODIFIED:20240703T140554Z
SUMMARY:La sostenibilità nell’imballaggio farmaceutico. Dal materiale al fine vita.
DTSTART:20240704T080000Z
DTEND:20240704T110000Z
DESCRIPTION:Terzo incontro dedicato al packaging\, organizzato dalla S
 ezione Packaging del Gruppo Gomma Plastica in collaborazione con l’A
 rea Industria\, Energia e Innovazione di Assolombarda.
LOCATION:Milano
CLASS:PUBLIC
END:VEVENT
END:VCALENDAR
