BEGIN:VCALENDAR
PRODID:-//AT Content Types//AT Event//EN
VERSION:1.0
BEGIN:VEVENT
DTSTART:20211008T080000Z
DTEND:20211008T100000Z
DCREATED:20211007T154443Z
UID:ATEvent-dd5e94e9f95946ceb088577af0e5682d
SEQUENCE:0
LAST-MODIFIED:20211007T160948Z
SUMMARY:La sostenibilità ambientale\, il caso del trasporto aereo
LOCATION:On line
PRIORITY:3
TRANSP:0
END:VEVENT
END:VCALENDAR
