BEGIN:VCALENDAR
PRODID:-//AT Content Types//AT Event//EN
VERSION:2.0
METHOD:PUBLISH
BEGIN:VEVENT
DTSTAMP:20260421T094745Z
CREATED:20230711T103500Z
UID:ATEvent-a2eefdba8c614f1a87ce9e48b517bedc
LAST-MODIFIED:20230711T103627Z
SUMMARY:La sfida demografica tra nuova organizzazione del lavoro e sostenibilità del welfare
DTSTART:20230717T163000Z
DTEND:20230717T180000Z
DESCRIPTION:Panel discussion in occasione dell'uscita del numero 2/202
 3 di Aspenia\, la rivista di Aspen Institute Italia.
LOCATION:Milano
CLASS:PUBLIC
END:VEVENT
END:VCALENDAR
