BEGIN:VCALENDAR
PRODID:-//AT Content Types//AT Event//EN
VERSION:2.0
METHOD:PUBLISH
BEGIN:VEVENT
DTSTAMP:20260424T123405Z
CREATED:20160614T150455Z
UID:ATEvent-f785f2bf29554c5aa944e98568e1a3e0
LAST-MODIFIED:20160628T135050Z
SUMMARY:La salute e sicurezza sul lavoro come driver di competitività territoriale
DTSTART:20160708T073000Z
DTEND:20160708T110000Z
DESCRIPTION:Il convegno presenterà i risultati del progetto "Sicurezz
 a al Centro" di Assolombarda Confindustria Milano Monza e Brianza
LOCATION:Milano
CLASS:PUBLIC
END:VEVENT
END:VCALENDAR
