BEGIN:VCALENDAR
PRODID:-//AT Content Types//AT Event//EN
VERSION:1.0
BEGIN:VEVENT
DTSTART:20210421T070000Z
DTEND:20210421T083000Z
DCREATED:20210419T103438Z
UID:ATEvent-b8ba31acdca545888fc47355a52b5e2a
SEQUENCE:0
LAST-MODIFIED:20210419T103445Z
SUMMARY:La rivalutazione dei beni d’impresa: opportunità ed effetti sul bilancio 2020
LOCATION:On line
PRIORITY:3
TRANSP:0
END:VEVENT
END:VCALENDAR
