BEGIN:VCALENDAR
PRODID:-//AT Content Types//AT Event//EN
VERSION:2.0
METHOD:PUBLISH
BEGIN:VEVENT
DTSTAMP:20260424T123044Z
CREATED:20220621T153732Z
UID:ATEvent-fd9b66d0be4c48fba3c3741c00b79107
LAST-MODIFIED:20220621T153800Z
SUMMARY:La ripresa parte da Malpensa
DTSTART:20220627T073000Z
DTEND:20220627T110000Z
DESCRIPTION:Il Cargo Aereo\, supporto strategico per le industrie e la
  logistica
LOCATION:Milano
CLASS:PUBLIC
END:VEVENT
END:VCALENDAR
