BEGIN:VCALENDAR
PRODID:-//AT Content Types//AT Event//EN
VERSION:1.0
BEGIN:VEVENT
DTSTART:20190619T153000Z
DTEND:20190619T173000Z
DCREATED:20190604T155333Z
UID:ATEvent-372f0d05e1d84892aa7abc766926df16
SEQUENCE:0
LAST-MODIFIED:20190604T155341Z
SUMMARY:La riforma della Legge fallimentare: la crisi d'impresa
DESCRIPTION:Quali tutele per gli organi sociali?
LOCATION:Como
PRIORITY:3
TRANSP:0
END:VEVENT
END:VCALENDAR
