BEGIN:VCALENDAR
PRODID:-//AT Content Types//AT Event//EN
VERSION:2.0
METHOD:PUBLISH
BEGIN:VEVENT
DTSTAMP:20260424T232117Z
CREATED:20151016T123901Z
UID:ATEvent-a86a672086bb468b9ad88afc1e39fcae
LAST-MODIFIED:20151016T124008Z
SUMMARY:La riforma degli ammortizzatori sociali
DTSTART:20151023T080000Z
DTEND:20151023T110000Z
LOCATION:Legnano (MI)
CLASS:PUBLIC
END:VEVENT
END:VCALENDAR
