BEGIN:VCALENDAR
PRODID:-//AT Content Types//AT Event//EN
VERSION:1.0
BEGIN:VEVENT
DTSTART:20190122T140000Z
DTEND:20190122T170000Z
DCREATED:20190110T164040Z
UID:ATEvent-40e2c6a1e19243ddaad4d0291674a331
SEQUENCE:0
LAST-MODIFIED:20190110T164448Z
SUMMARY:La responsabilità del personale sanitario
DESCRIPTION:amministrativa\, contabile e disciplinare
LOCATION:Como
PRIORITY:3
TRANSP:0
END:VEVENT
END:VCALENDAR
