BEGIN:VCALENDAR
PRODID:-//AT Content Types//AT Event//EN
VERSION:1.0
BEGIN:VEVENT
DTSTART:20200729T080000Z
DTEND:20200729T103000Z
DCREATED:20200724T140510Z
UID:ATEvent-cc29bb46daf94e9bae89cbd6038e5cea
SEQUENCE:0
LAST-MODIFIED:20200724T140544Z
SUMMARY:La proposta di riforma dei Titoli di Efficienza Energetica
DESCRIPTION:Webinar di presentazione del Rapporto TEE 2020
LOCATION:Webinar
PRIORITY:3
TRANSP:0
END:VEVENT
END:VCALENDAR
