BEGIN:VCALENDAR
PRODID:-//AT Content Types//AT Event//EN
VERSION:2.0
METHOD:PUBLISH
BEGIN:VEVENT
DTSTAMP:20260424T183824Z
CREATED:20210324T211039Z
UID:ATEvent-f00d3050d0714e85871efb9c5b896e14
LAST-MODIFIED:20210324T211343Z
SUMMARY:La nuova geografia del sistema bancario: il caso UBI - BPER
DTSTART:20210325T153000Z
DTEND:20210325T163000Z
LOCATION:On line
CLASS:PUBLIC
END:VEVENT
END:VCALENDAR
