BEGIN:VCALENDAR
PRODID:-//AT Content Types//AT Event//EN
VERSION:2.0
METHOD:PUBLISH
BEGIN:VEVENT
DTSTAMP:20260421T174430Z
CREATED:20231020T142726Z
UID:ATEvent-d6300503407f4e208c09ad5f0a5132e2
LAST-MODIFIED:20231020T142809Z
SUMMARY:La nuova domanda Omnia-IS per CIGO e FIS
DTSTART:20231024T080000Z
DTEND:20231024T100000Z
DESCRIPTION:La piattaforma Omnia-IS è il risultato di un lavoro di co
 mpleta reingegnerizzazione della gestione degli ammortizzatori sociali
  e costituisce un nuovo punto di contatto tra INPS e imprese.
LOCATION:Online
CLASS:PUBLIC
END:VEVENT
END:VCALENDAR
