BEGIN:VCALENDAR
PRODID:-//AT Content Types//AT Event//EN
VERSION:2.0
METHOD:PUBLISH
BEGIN:VEVENT
DTSTAMP:20260425T225818Z
CREATED:20230626T143828Z
UID:ATEvent-075747a484a347fe935330fe539be70d
LAST-MODIFIED:20230626T143901Z
SUMMARY:La nuova disciplina di interscambio dei pallet e riflessi sulla filiera
DTSTART:20230705T130000Z
DTEND:20230705T140000Z
DESCRIPTION:Confindustria Mantova ha organizzato un webinar per entrar
 e nel merito delle implicazioni collegate alla nuova disciplina di int
 erscambio dei pallet e potenziali ricadute sulla filiera.
LOCATION:On line
CLASS:PUBLIC
END:VEVENT
END:VCALENDAR
