BEGIN:VCALENDAR
PRODID:-//AT Content Types//AT Event//EN
VERSION:1.0
BEGIN:VEVENT
DTSTART:20161124T133000Z
DTEND:20161124T170000Z
DCREATED:20161114T170742Z
UID:ATEvent-b378b0fb030d48da85f880655326a110
SEQUENCE:0
LAST-MODIFIED:20161114T170958Z
SUMMARY:La nuova disciplina della corruzione\, riciclaggio e falso in bilancio
DESCRIPTION:Convegno organizzato nell'ambito del ciclo di incontri int
 itolati “Il paracadute per l'imprenditore”
LOCATION:Bergamo
PRIORITY:3
TRANSP:0
END:VEVENT
END:VCALENDAR
