BEGIN:VCALENDAR
PRODID:-//AT Content Types//AT Event//EN
VERSION:1.0
BEGIN:VEVENT
DTSTART:20230531T130000Z
DTEND:20230531T140000Z
DCREATED:20230516T091819Z
UID:ATEvent-4075404d341740ebae082784704253e6
SEQUENCE:0
LAST-MODIFIED:20230521T231553Z
SUMMARY:La normativa UE di vigilanza sulla conformità dei prodotti: ruolo\, responsabilità degli operatori economici e impatti sulle direttive
DESCRIPTION:Webinar gratuito
LOCATION:On line
PRIORITY:3
TRANSP:0
END:VEVENT
END:VCALENDAR
