BEGIN:VCALENDAR
PRODID:-//AT Content Types//AT Event//EN
VERSION:2.0
METHOD:PUBLISH
BEGIN:VEVENT
DTSTAMP:20260424T094631Z
CREATED:20240212T145006Z
UID:ATEvent-115a09bbe7644aed96811fa4a7f3fecd
LAST-MODIFIED:20240212T145040Z
SUMMARY:La multiculturalità in azienda: approcci gestionali e prospettive future
DTSTART:20240226T090000Z
DTEND:20240226T110000Z
DESCRIPTION:Il convegno\, realizzato in collaborazione con l’Ordine 
 dei Consulenti del Lavoro della Provincia di Milano\, sarà l’occasi
 one per analizzare il fenomeno della multiculturalità in azienda e pe
 r ragionare sulle prospettive di sviluppo.
LOCATION:Milano
CLASS:PUBLIC
END:VEVENT
END:VCALENDAR
