BEGIN:VCALENDAR
PRODID:-//AT Content Types//AT Event//EN
VERSION:2.0
METHOD:PUBLISH
BEGIN:VEVENT
DTSTAMP:20260421T074426Z
CREATED:20200108T153442Z
UID:ATEvent-41070601a0cf4a7ea274f05b3e1d4504
LAST-MODIFIED:20200108T153525Z
SUMMARY:La matematica come arte
DTSTART:20200115T163000Z
DTEND:20200115T183000Z
DESCRIPTION:Incontro con Olivia Caramello
LOCATION:Como
CLASS:PUBLIC
END:VEVENT
END:VCALENDAR
