BEGIN:VCALENDAR
PRODID:-//AT Content Types//AT Event//EN
VERSION:1.0
BEGIN:VEVENT
DTSTART:20211004T123000Z
DTEND:20211004T140000Z
DCREATED:20211001T151135Z
UID:ATEvent-be0a353604074304a40b5551c5f36149
SEQUENCE:0
LAST-MODIFIED:20211001T151142Z
SUMMARY:La gestione delle Risorse Umane: salari\, stipendi e mobilità internazionale
LOCATION:On line
PRIORITY:3
TRANSP:0
END:VEVENT
END:VCALENDAR
