BEGIN:VCALENDAR
PRODID:-//AT Content Types//AT Event//EN
VERSION:2.0
METHOD:PUBLISH
BEGIN:VEVENT
DTSTAMP:20260424T053250Z
CREATED:20151005T132517Z
UID:ATEvent-6a586b090a434523be14e915f6b647cb
LAST-MODIFIED:20151013T100212Z
SUMMARY:La gestione delle misure di welfare in azienda
DTSTART:20151014T123000Z
DTEND:20151014T153000Z
LOCATION:Milano
CLASS:PUBLIC
END:VEVENT
END:VCALENDAR
