BEGIN:VCALENDAR
PRODID:-//AT Content Types//AT Event//EN
VERSION:1.0
BEGIN:VEVENT
DTSTART:20190620T080000Z
DTEND:20190620T110000Z
DCREATED:20190613T095436Z
UID:ATEvent-72497bda9b9b48168dca84be46112f24
SEQUENCE:0
LAST-MODIFIED:20190620T161729Z
SUMMARY:ANNULLATO - La gestione delle accise: profili giuridici e pratici
LOCATION:Milano
PRIORITY:3
TRANSP:0
END:VEVENT
END:VCALENDAR
