BEGIN:VCALENDAR
PRODID:-//AT Content Types//AT Event//EN
VERSION:2.0
METHOD:PUBLISH
BEGIN:VEVENT
DTSTAMP:20260424T140446Z
CREATED:20180214T163540Z
UID:ATEvent-b301634f058847878bb6fa758a2b0901
LAST-MODIFIED:20180214T163638Z
SUMMARY:La gestione dei rapporti lavorativi nella crisi d'impresa
DTSTART:20180220T160000Z
DTEND:20180220T180000Z
DESCRIPTION:Ciclo di incontri " Dialoghi sulla crisi e risanamento di 
 impresa" - Quarto Incontro
LOCATION:Como
CLASS:PUBLIC
END:VEVENT
END:VCALENDAR
