BEGIN:VCALENDAR
PRODID:-//AT Content Types//AT Event//EN
VERSION:2.0
METHOD:PUBLISH
BEGIN:VEVENT
DTSTAMP:20260424T081617Z
CREATED:20160614T152839Z
UID:ATEvent-a5303bf82ab845de88e922a7947f618c
LAST-MODIFIED:20160614T152955Z
SUMMARY:La gestione degli infortuni nel rapporto di lavoro
DTSTART:20160712T123000Z
DTEND:20160712T153000Z
DESCRIPTION:Novità e adempimenti
LOCATION:Milano
CLASS:PUBLIC
END:VEVENT
END:VCALENDAR
