BEGIN:VCALENDAR
PRODID:-//AT Content Types//AT Event//EN
VERSION:1.0
BEGIN:VEVENT
DTSTART:20210326T090000Z
DTEND:20210326T110000Z
DCREATED:20210323T220308Z
UID:ATEvent-cd6484e09ab24bdba7961b149861745f
SEQUENCE:0
LAST-MODIFIED:20210323T220525Z
SUMMARY:La Filiera Energy Sustainable Global Chain di Assolombarda presenta Just
LOCATION:On line
PRIORITY:3
TRANSP:0
END:VEVENT
END:VCALENDAR
