BEGIN:VCALENDAR
PRODID:-//AT Content Types//AT Event//EN
VERSION:2.0
METHOD:PUBLISH
BEGIN:VEVENT
DTSTAMP:20260424T170825Z
CREATED:20230925T080359Z
UID:ATEvent-41f93b3141e041ee874d2b4f5aa014c2
LAST-MODIFIED:20230926T165557Z
SUMMARY:La filiera della scarpa\, la storia\, la cultura del saper fare\, il futuro
DTSTART:20230927T143000Z
DTEND:20230927T160000Z
DESCRIPTION:Evento organizzato nel palinsesto delle iniziative di Pavi
 a Capitale della Cultura d'Impresa 2023
LOCATION:Vigevano (PV)
CLASS:PUBLIC
END:VEVENT
END:VCALENDAR
