BEGIN:VCALENDAR
PRODID:-//AT Content Types//AT Event//EN
VERSION:1.0
BEGIN:VEVENT
DTSTART:20181214T140000Z
DTEND:20181214T160000Z
DCREATED:20181208T140144Z
UID:ATEvent-132b47bb41484409bb2d4b02dff07111
SEQUENCE:0
LAST-MODIFIED:20181208T140203Z
SUMMARY:La filiera automotive italiana e le prossime sfide tecnologiche\, ambientali e normative
LOCATION:Milano
PRIORITY:3
TRANSP:0
END:VEVENT
END:VCALENDAR
